BEGIN:VCALENDAR
VERSION:2.0
PRODID:-//ExpressionEngine Easy iCalendar plugin//NONSGML v2.0.0//EN
X-WR-TIMEZONE:America/Chicago
X-WR-CALNAME:Upcoming Auctions
BEGIN:VEVENT
UID:160226
DTSTAMP:20260421T214500
DTSTART:20260421T214500
DTEND:20260505T200000
SUMMARY:#690 Warehouse Consignment Auction
LOCATION:{location}
DESCRIPTION:Warehouse Consignment Auction #690 REMOVAL DATES: Wed 05/06\,
  Thurs. 05/07\, Fri. 05/08 or Sat. 05/09 Store Hours: Wed.-F
 ri. 9am to 5pm and Sat. 9am to 1pm. Closed Sunday\, Monday an
 d Tuesdays. 707 N. Elm Ave Owatonna\, MN 55060 Scott - (507) 
 456-5807 Mike - (507) 475-0992 Chad (Firearms) - (507) 363-2
 205
URL:https://www.otownauctions.com/auctions/detail/bw160226
SEQUENCE:1
END:VEVENT
END:VCALENDAR